BEGIN:VCALENDAR
VERSION:2.0
PRODID:-//Connecticut Virtuosi - ECPv6.2.9//NONSGML v1.0//EN
CALSCALE:GREGORIAN
METHOD:PUBLISH
X-ORIGINAL-URL:https://thevirtuosi.org
X-WR-CALDESC:Events for Connecticut Virtuosi
REFRESH-INTERVAL;VALUE=DURATION:PT1H
X-Robots-Tag:noindex
X-PUBLISHED-TTL:PT1H
BEGIN:VTIMEZONE
TZID:America/New_York
BEGIN:DAYLIGHT
TZOFFSETFROM:-0500
TZOFFSETTO:-0400
TZNAME:EDT
DTSTART:20250309T070000
END:DAYLIGHT
BEGIN:STANDARD
TZOFFSETFROM:-0400
TZOFFSETTO:-0500
TZNAME:EST
DTSTART:20251102T060000
END:STANDARD
END:VTIMEZONE
BEGIN:VEVENT
DTSTART;VALUE=DATE:20250618
DTEND;VALUE=DATE:20250710
DTSTAMP:20260424T163636
CREATED:20250528T144229Z
LAST-MODIFIED:20250528T144607Z
UID:11905-1750204800-1752105599@thevirtuosi.org
SUMMARY:International GREVE OPERA Academy & Chamber Music Festival
DESCRIPTION:General Info at: \nWWW.GREVEFESTIVAL.ORG \nFestival Performances at: \nhttp://grevefestival.org/events/category/2025-greve-festival/
URL:https://thevirtuosi.org/event/international-greve-opera-academy-chamber-music-festival/
LOCATION:Greve – Figline – Empoli – Firenze
CATEGORIES:2025-2026 Season,Greve - Figline - Empoli - Firenze,Operas,Summer Festival
ATTACH;FMTTYPE=image/jpeg:https://thevirtuosi.org/wp-content/uploads/2024/04/Greve-2024-p1-e1717220619534.jpeg
ORGANIZER;CN="Connecticut Virtuosi Chamber Orchestra":MAILTO:info@thevirtuosi.org
END:VEVENT
END:VCALENDAR