BEGIN:VCALENDAR
VERSION:2.0
PRODID:-//Connecticut Virtuosi - ECPv6.2.9//NONSGML v1.0//EN
CALSCALE:GREGORIAN
METHOD:PUBLISH
X-ORIGINAL-URL:https://thevirtuosi.org
X-WR-CALDESC:Events for Connecticut Virtuosi
REFRESH-INTERVAL;VALUE=DURATION:PT1H
X-Robots-Tag:noindex
X-PUBLISHED-TTL:PT1H
BEGIN:VTIMEZONE
TZID:America/New_York
BEGIN:DAYLIGHT
TZOFFSETFROM:-0500
TZOFFSETTO:-0400
TZNAME:EDT
DTSTART:20260308T070000
END:DAYLIGHT
BEGIN:STANDARD
TZOFFSETFROM:-0400
TZOFFSETTO:-0500
TZNAME:EST
DTSTART:20261101T060000
END:STANDARD
END:VTIMEZONE
BEGIN:VEVENT
DTSTART;TZID=America/New_York:20260531T180000
DTEND;TZID=America/New_York:20260531T180000
DTSTAMP:20260423T074837
CREATED:20260226T165753Z
LAST-MODIFIED:20260416T182707Z
UID:12221-1780250400-1780250400@thevirtuosi.org
SUMMARY:New Britain: CARMEN
DESCRIPTION:Buy Tickets \nJoin us for an electrifying evening as Bizet’s immortal Carmen—one of the most beloved and recognizable operas in the world—returns to the stage with irresistible passion\, color\, and drama. Carmen remains a timeless masterpiece\, captivating audiences with its fiery spirit and unforgettable melodies. Set in vibrant Seville\, the story follows Don José\, a soldier torn between duty\, love\, and the magnetic allure of the free‑spirited Carmen. As jealousy consumes him and Carmen turns her attention to the charismatic bullfighter Escamillo\, the opera hurtles toward its gripping final scene outside the bullring. \nThe Virtuosi OPERA international cast is headlined by Brazilian mezzo‑soprano Rebecca de Almeida as Carmen\, American tenor Jax Hassler as Don José\, Polish‑American baritone Wojciech Bonarowski as Escamillo\, and American soprano Makaela Shade-Alexander as Micaëla. Other cast members include Laurentiu Rotaru (Zuniga) Brian Alvarado (Le Dancaïre)\, Daniel Kamalic and Kevin Courtemanche (alternating the role of Le Remendado)\, AddieRose Brown (Mercédès)\, and Emily Tate Daniel (Frasquita). \nArtistic Director maestro Adrian Sylveen leads the Connecticut Virtuosi Chamber Orchestra and the Virtuosi OPERA in a fully staged production enhanced with English super‑title translations. From the iconic “Habanera” to the thrilling “Toreador Song\,” every moment promises intensity\, beauty\, and musical brilliance. Whether you are a longtime opera lover or discovering this classic for the first time\, Carmen will sweep you into a world of passion and fate. Reserve your seats and experience the power of grand opera at its finest. \nCAST: \n\n			\n				\n			\n				\n				CARMEN: Rebecca Almeida\n				\n			\n				\n			\n				\n				Don José: Jax Hassler\n				\n			\n				\n			\n				\n				Escamillo: Wojciech Bonarowski\n				\n			\n				\n			\n				\n				Micaëla: Makaela Shade-Alexander\n				\n			\n				\n			\n				\n				Zuniga: Laurentiu Rotaru\n				\n			\n				\n			\n				\n				Le Dancaïre / Moralès: Brian Alvarado\n				\n			\n				\n			\n				\n				Mercédès: AddieRose Brown\n				\n			\n				\n			\n				\n				Le Remendado: Daniel Kamalic\n				\n			\n				\n			\n				\n				Frasquita: Emily Tate Daniel\n				\n		\n\nBuy Tickets
URL:https://thevirtuosi.org/event/tom-new-britain-carmen/
LOCATION:Trinity-On-Main\, 69 Main St\, New Britain\, Connecticut
CATEGORIES:2025-2026 Season,2025-2026 Season,New Britain,Operas
ATTACH;FMTTYPE=image/jpeg:https://thevirtuosi.org/wp-content/uploads/2026/02/Carmen-Poster-2025@1920px-copy.jpg
ORGANIZER;CN="Connecticut Virtuosi Chamber Orchestra":MAILTO:info@thevirtuosi.org
END:VEVENT
END:VCALENDAR