BEGIN:VCALENDAR
VERSION:2.0
PRODID:-//Connecticut Virtuosi - ECPv6.2.9//NONSGML v1.0//EN
CALSCALE:GREGORIAN
METHOD:PUBLISH
X-ORIGINAL-URL:https://thevirtuosi.org
X-WR-CALDESC:Events for Connecticut Virtuosi
REFRESH-INTERVAL;VALUE=DURATION:PT1H
X-Robots-Tag:noindex
X-PUBLISHED-TTL:PT1H
BEGIN:VTIMEZONE
TZID:America/New_York
BEGIN:DAYLIGHT
TZOFFSETFROM:-0500
TZOFFSETTO:-0400
TZNAME:EDT
DTSTART:20250309T070000
END:DAYLIGHT
BEGIN:STANDARD
TZOFFSETFROM:-0400
TZOFFSETTO:-0500
TZNAME:EST
DTSTART:20251102T060000
END:STANDARD
END:VTIMEZONE
BEGIN:VEVENT
DTSTART;TZID=America/New_York:20250815T190000
DTEND;TZID=America/New_York:20250815T190000
DTSTAMP:20260424T200106
CREATED:20250716T215948Z
LAST-MODIFIED:20250815T115705Z
UID:11926-1755284400-1755284400@thevirtuosi.org
SUMMARY:Violin Recital by Brunilda Myftaraj
DESCRIPTION:J. S. Bach: Violin Solo Sonata No.1 in G minor\, BWV 1001\nGabriel Faure: The Violin Sonata No. 1 in A major\, Op. 13\nJohannes Brahms: The Violin Sonata No. 2 in A major\, Op. 100 \nBrunilda Myftaraj\, violin\nBlake Hansen\, piano \n\nAlbanian-American violinist Brunilda Myftaraj has drawn enthusiastic accolades from audiences as well as critical acclaim for her masterful musicianship in Albania\, Italy\, Greece\, France\, Morocco\, Austria\, Switzerland\, Poland\, Israel\, and in the United States. She has been praised by the New London Day critic as an “especially fine and beautiful player”. Although Myftaraj’s teachers are some of the world’s finest\, her true inspiration comes from audiences and her students. Her recordings of“Naked Violin” and “The American Pie” received impeccable reviews from Fanfare magazine:\nMyftaraj’s Naked Violin may be – just shy of 38 minutes – but it more than makes up for it in sheer inspired music–making…\nThe American Pie\, a truly special and especially recommended album…\nMyftaraj gives a masterful and penetrating performance of Bach’s famous Chaconne… Jerry Dubins\,\nMany of my readers will want to own this interesting CD. The American Pie with Myftaraj and Parker … Maria Nockin\, Fanfare magazine This is a fascinating-programmed disc\, well-realized… Colin Clarke\, Fanfare magazine\nBrunilda was part of the Love’s Tango recording project with Alex Nakimovsky and June Bizantz\, which has been awarded a 2019 Silver Global Music Award. Currently\, Ms. Myftaraj holds the position of Concertmaster for the Connecticut Virtuosi Chamber Orchestra and Opera as well as the Greve opera festival in Italy.She has been a violin\, viola\, and chamber music teacher for over twenty-five years in Farmington and Hartford\, Connecticut. Ms. Myftaraj has appeared at Carnegie Hall as a soloist for several performances with the Virtuosi chamber orchestra with works by J.S. Bach\, W.A. Mozart and Alban Berg\, and is a member of the Berkshire Bach Society. In 2025\, Ms. Myftaraj graduated with Master in Performance Degree from Stony Brook University School of Music. \n\nBlake Meyer Hansen graduated from the Hartt School\, University of Hartford\, in 2013 with a Master of Music in piano performance under the tutelage of Luiz de Moura Castro. He now performs frequently as an accompanist and soloist in the greater Hartford area. Although primarily a pianist\, Blake has also pursued studies in violin\, double majoring in both instruments in his undergraduate program at Principia College\, where he studied piano with Dr. Marie Jureit-Beamish and violin with Laura Garritson Parker. Blake has participated in numerous piano master classes in the United States and Europe. He has had the fortune of playing for great artists\, including Kenneth Drake\, Boris Berman\, Florence Millet\, and Simon Trpceski. He also frequently attends summer festivals\, such as the Semana Internacional de Piano de Obidos (SIPO) in Portugal and the summer courses at the Conservatori Liceu in Barcelona\, Spain. A winner of numerous piano competitions\, including the University of Redlands Merit Awards\, the Inland Empire Piano Festival\, both in California\, and the Sigma Alpha Iota music competitions in St. Louis\, Blake remains an active participant in concerto competitions. He has soloed on the piano and violin with the Principia College Orchestra and on piano with the Mt. San Jacinto College Orchestra. An experienced chamber musician\, Blake frequently collaborates in ensembles and as an accompanist. During his studies at Principia he was accompanist for the Principia College Choir and the vocal studios. Blake has had the opportunity to perform in notable venues such as Steinway Hall in New York City and the Illsley Ball Nordstram Hall in Seattle\, WA.
URL:https://thevirtuosi.org/event/violin-recital-by-brunilda-myftaraj/
LOCATION:St. James Episcopal Church\, 3 Mountain rd.\, Farmington\, CT\, 06032
CATEGORIES:Chamber Music,CT,Farmington CT,St. James Church,Summer Festival,Virtuosi Music Academy
END:VEVENT
BEGIN:VEVENT
DTSTART;TZID=America/New_York:20250814T190000
DTEND;TZID=America/New_York:20250814T190000
DTSTAMP:20260424T200106
CREATED:20250716T220233Z
LAST-MODIFIED:20250716T220233Z
UID:11931-1755198000-1755198000@thevirtuosi.org
SUMMARY:Virtuosi Institute Student's Showcase
DESCRIPTION:
URL:https://thevirtuosi.org/event/virtuosi-institute-students-showcase/
LOCATION:St. James Episcopal Church\, 3 Mountain rd.\, Farmington\, CT\, 06032
CATEGORIES:Chamber Music,CT,Farmington CT,St. James Church,Summer Festival,Virtuosi Music Academy
END:VEVENT
BEGIN:VEVENT
DTSTART;TZID=America/New_York:20250808T190000
DTEND;TZID=America/New_York:20250808T190000
DTSTAMP:20260424T200106
CREATED:20250716T215637Z
LAST-MODIFIED:20250808T125316Z
UID:11923-1754679600-1754679600@thevirtuosi.org
SUMMARY:Cello Recital by Sanga Yoon with pianist Anna Pan
DESCRIPTION:Sergei Rachmaninoff: Cello Sonata\, Op.19 \nSergey Prokofiev: Cello Sonata\, Op.119 \nSanga Yoon\, cello\nA recent graduate of the Hartt School of Music\, internationally acclaimed cellist Sanga Yoon is a dynamic and expressive artist\, known for her commanding performances across a broad spectrum of classical and contemporary repertoire. Her performances in her native Korea\, as well as the US\, show Yoon’s deep understanding of stylistic practices. Sanga brings technical mastery and emotional depth to both solo and ensemble settings. As a core member of chamber groups and orchestras\, including the Connecticut Virtuosi Chamber Orchestra\, she presents informed performances of various styles. Yoon’s dedication to contemporary music is evident in her collaborations with composers\, where she explores intricate new musical structures. Beyond performance\, she is a passionate educator and advocate for music outreach\, inspiring the next generation through teaching and engaging public programs at schools around Greater Hartford. Whether on stage\, in the recording studio\, or in educational spaces\, Yoon’s artistry and commitment continue to enrich the musical landscape\, making her a sought-after performer and collaborator in the classical world.
URL:https://thevirtuosi.org/event/cello-recital-by-sanga-yoon/
LOCATION:St. James Episcopal Church\, 3 Mountain rd.\, Farmington\, CT\, 06032
CATEGORIES:Chamber Music,CT,Farmington CT,St. James Church,Summer Festival,Virtuosi Music Academy
END:VEVENT
END:VCALENDAR